BEGIN:VCALENDAR
VERSION:2.0
METHOD:PUBLISH
PRODID:-//Agenda.ad//NONSGML v1.0//EN
BEGIN:VEVENT
CLASS:PUBLIC
UID:4e9e03ea6a2d060982917800a6cfb21a@agenda.ad
DTSTAMP:20260422T181929Z
DTSTART:20260529T220000Z
DTEND:20260530T220000Z
SUMMARY:<span>Cl&agrave;ssicAnd 2026.&nbsp;<span>La Passi&oacute; de Casa de la Vall &ndash; J. S. Bach</span></span>
DESCRIPTION:\n\nMés informació\nhttps://www.agenda.ad/activitat/andorr
 a-la-vella/musica/classicand-2026 la-passio-de-casa-de-la-v
 all-j-s-bach\n
LOCATION:Casa de la Vall
SEQUENCE:0
TRANSP:OPAQUE
X-ALT-DESC;FMTTYPE=text/html:<!DOCTYPE HTML PUBLIC "-//W3C//DTD HTML 3.2//EN"><HTML><HEAD
 ><TITLE></TITLE></HEAD><BODY><FONT FACE="Arial" SIZE=2><br/>
 <br/><b>Més informació</b><br/><a href="https://www.agenda
 .ad/activitat/andorra-la-vella/musica/classicand-2026 la-pa
 ssio-de-casa-de-la-vall-j-s-bach">https://www.agenda.ad/acti
 vitat/andorra-la-vella/musica/classicand-2026 la-passio-de-
 casa-de-la-vall-j-s-bach</a><br/></FONT></BODY></HTML>
END:VEVENT
END:VCALENDAR